BEGIN:VCALENDAR
VERSION:2.0
PRODID:icalendar-ruby
CALSCALE:GREGORIAN
METHOD:PUBLISH
BEGIN:VEVENT
DTSTAMP:20260423T113508Z
UID:11-763346@b3church.com
DTSTART:20261011T144500Z
DTEND:20261011T154500Z
CLASS:PUBLIC
CREATED:20260422T224206
DESCRIPTION:Our Sunday morning service at 10:45am has a blend of the hymns 
 that are part of our heritage and faith\, and contemporary music. Both are
  accompanied by multimedia\, and a variety of instruments. The preaching i
 s Biblical\, conservative\, and relative. \nTo hear sermons from past ser
 vices\, click here.
LAST-MODIFIED:20260422T224206
LOCATION:
SUMMARY:Worship Service
URL;VALUE=URI:https://b3church.com/events/worship-service--11/2026-10-11
ATTACH;FILENAME=IMG_5252.jpg;FMTTYPE=image/jpeg:https://dq5pwpg1q8ru0.cloud
 front.net/2025/04/28/16/39/53/e9b8eeb1-54ca-41e6-aabf-085c61d6602d/IMG_525
 2.jpg
END:VEVENT
END:VCALENDAR
